BEGIN:VCALENDAR
VERSION:2.0
PRODID:-//GPSD Conference - ECPv6.15.17//NONSGML v1.0//EN
CALSCALE:GREGORIAN
METHOD:PUBLISH
X-WR-CALNAME:GPSD Conference
X-ORIGINAL-URL:https://thegpsd.org
X-WR-CALDESC:Events for GPSD Conference
REFRESH-INTERVAL;VALUE=DURATION:PT1H
X-Robots-Tag:noindex
X-PUBLISHED-TTL:PT1H
BEGIN:VTIMEZONE
TZID:UTC
BEGIN:STANDARD
TZOFFSETFROM:+0000
TZOFFSETTO:+0000
TZNAME:UTC
DTSTART:20230101T000000
END:STANDARD
END:VTIMEZONE
BEGIN:VEVENT
DTSTART;TZID=UTC:20241101T080000
DTEND;TZID=UTC:20241102T170000
DTSTAMP:20260423T084917
CREATED:20240129T182932Z
LAST-MODIFIED:20240129T182932Z
UID:5251-1730448000-1730566800@thegpsd.org
SUMMARY:2024 GPSD Triathlon Competition
DESCRIPTION:Get ready for an exhilarating display of athleticism and endurance as the Triathlon competition unfolds at the Missouri School for the Deaf on November 1 and 2\, 2024. This prestigious event will bring together participants from eight different schools\, showcasing their skills in knowledge. Missouri School for the Deaf is set to host a memorable competition that not only emphasizes mental prowess but also celebrates determination and resilience. Athletes from various schools will push their limits in this ultimate test of knowledge and stamina\, creating an atmosphere of friendly competition and shared passion for the sport. As the host\, the Missouri School for the Deaf is dedicated to providing an inclusive and supportive environment\, ensuring that the Triathlon becomes more than just a competition—it becomes a celebration of the indomitable spirit of the deaf and hard-of-hearing community. Get ready to witness thrilling performances and unforgettable moments at the 2024 Triathlon competition in Missouri.
URL:https://thegpsd.org/event/2024-gpsd-triathlon-competition/
LOCATION:MSD\, 505 E 5th St.\, Fulton\, MO\, 65251\, United States
CATEGORIES:Triathlon
ATTACH;FMTTYPE=image/png:https://thegpsd.org/wp-content/uploads/2024/01/events-2024-msd.png
ORGANIZER;CN="Andrew Daly":MAILTO:Andrew.Daly@msd.dese.mo.gov
END:VEVENT
END:VCALENDAR