BEGIN:VCALENDAR
VERSION:2.0
PRODID:-//GPSD Conference - ECPv6.15.17//NONSGML v1.0//EN
CALSCALE:GREGORIAN
METHOD:PUBLISH
X-ORIGINAL-URL:https://thegpsd.org
X-WR-CALDESC:Events for GPSD Conference
REFRESH-INTERVAL;VALUE=DURATION:PT1H
X-Robots-Tag:noindex
X-PUBLISHED-TTL:PT1H
BEGIN:VTIMEZONE
TZID:UTC
BEGIN:STANDARD
TZOFFSETFROM:+0000
TZOFFSETTO:+0000
TZNAME:UTC
DTSTART:20230101T000000
END:STANDARD
END:VTIMEZONE
BEGIN:VEVENT
DTSTART;TZID=UTC:20241011T120000
DTEND;TZID=UTC:20241013T220000
DTSTAMP:20260423T115657
CREATED:20240129T174408Z
LAST-MODIFIED:20240129T174524Z
UID:5244-1728648000-1728856800@thegpsd.org
SUMMARY:2024 GPSD Volleyball Tournament
DESCRIPTION:The much-anticipated GPSD 2024 Volleyball Tournament is set to take place at the Oklahoma School for the Deaf on October 11 and 12\, 2024\, bringing together eight different schools for an exciting and competitive event. Volleyball enthusiasts and supporters from across the region are eagerly awaiting the showcase of skill\, teamwork\, and sportsmanship as teams from various schools vie for the championship. The Oklahoma School for the Deaf\, serving as the host\, is poised to provide a welcoming and inclusive atmosphere for players and spectators alike. This tournament not only highlights the athletic prowess of the participating schools but also fosters a sense of camaraderie and unity among the deaf and hard-of-hearing community. With the backdrop of spirited competition\, the GPSD 2024 Volleyball Tournament promises to be a thrilling celebration of athleticism and inclusivity\, leaving a lasting impact on the participants and attendees alike.
URL:https://thegpsd.org/event/2024-gpsd-volleyball-tournament/
LOCATION:OSD\, 1100 East Oklahoma Ave.\, Sulphur\, 73086\, United States
CATEGORIES:Volleyball
ATTACH;FMTTYPE=image/png:https://thegpsd.org/wp-content/uploads/2024/01/events-2024-osd.png
ORGANIZER;CN="Levi Mathis":MAILTO:lmathis@osd.k12.ok.us
END:VEVENT
END:VCALENDAR